Package: OrganismDbi Version: 1.49.0 Command: chmod a+r OrganismDbi -R && E:\biocbuild\bbs-3.21-bioc\R\bin\R.exe CMD build --keep-empty-dirs --no-resave-data OrganismDbi StartedAt: 2025-02-20 20:33:43 -0500 (Thu, 20 Feb 2025) EndedAt: 2025-02-20 20:35:26 -0500 (Thu, 20 Feb 2025) EllapsedTime: 103.3 seconds RetCode: 0 Status: OK PackageFile: OrganismDbi_1.49.0.tar.gz PackageFileSize: 387.5 KiB