Package: OrderedList Version: 1.79.0 Command: /home/biocbuild/bbs-3.21-bioc/R/bin/R CMD build --keep-empty-dirs --no-resave-data OrderedList StartedAt: 2025-02-19 18:29:13 -0500 (Wed, 19 Feb 2025) EndedAt: 2025-02-19 18:30:49 -0500 (Wed, 19 Feb 2025) EllapsedTime: 96.1 seconds RetCode: 0 Status: OK PackageFile: OrderedList_1.79.0.tar.gz PackageFileSize: 1.056 MiB