Package: OrderedList Version: 1.79.0 Command: /Library/Frameworks/R.framework/Resources/bin/R CMD check --install=check:OrderedList.install-out.txt --library=/Library/Frameworks/R.framework/Resources/library --no-vignettes --timings OrderedList_1.79.0.tar.gz StartedAt: 2025-02-18 20:38:26 -0500 (Tue, 18 Feb 2025) EndedAt: 2025-02-18 20:38:42 -0500 (Tue, 18 Feb 2025) EllapsedTime: 15.2 seconds RetCode: 0 Status: OK CheckDir: OrderedList.Rcheck Warnings: 0