Package: OncoSimulR Version: 4.9.0 Command: /home/biocbuild/bbs-3.21-bioc/R/bin/R CMD INSTALL OncoSimulR StartedAt: 2025-02-17 15:14:34 -0500 (Mon, 17 Feb 2025) EndedAt: 2025-02-17 15:17:10 -0500 (Mon, 17 Feb 2025) EllapsedTime: 156.2 seconds RetCode: 0 Status: OK