Package: OncoSimulR Version: 4.9.0 Command: /home/biocbuild/bbs-3.21-bioc/R/bin/R CMD build --keep-empty-dirs --no-resave-data OncoSimulR StartedAt: 2025-02-17 18:24:25 -0500 (Mon, 17 Feb 2025) EndedAt: 2025-02-17 18:31:04 -0500 (Mon, 17 Feb 2025) EllapsedTime: 398.7 seconds RetCode: 0 Status: OK PackageFile: OncoSimulR_4.9.0.tar.gz PackageFileSize: 8.286 MiB