Package: OncoSimulR Version: 4.9.0 Command: /Library/Frameworks/R.framework/Resources/bin/R CMD INSTALL OncoSimulR StartedAt: 2025-02-17 15:31:03 -0500 (Mon, 17 Feb 2025) EndedAt: 2025-02-17 15:33:38 -0500 (Mon, 17 Feb 2025) EllapsedTime: 154.9 seconds RetCode: 0 Status: OK