Package: OncoSimulR Version: 4.9.0 Command: rm -rf OncoSimulR.buildbin-libdir && mkdir OncoSimulR.buildbin-libdir && /Users/biocbuild/BBS/utils/build-universal.sh OncoSimulR_4.9.0.tar.gz /Library/Frameworks/R.framework/Resources/bin/R OncoSimulR.buildbin-libdir StartedAt: 2025-02-18 00:37:53 -0500 (Tue, 18 Feb 2025) EndedAt: 2025-02-18 00:40:37 -0500 (Tue, 18 Feb 2025) EllapsedTime: 164.1 seconds RetCode: 0 Status: OK PackageFile: OncoSimulR_4.9.0.tgz PackageFileSize: 9.459 MiB