Package: OncoScore Version: 1.35.0 Command: E:\biocbuild\bbs-3.21-bioc\R\bin\R.exe CMD INSTALL OncoScore StartedAt: 2025-02-20 15:48:33 -0500 (Thu, 20 Feb 2025) EndedAt: 2025-02-20 15:49:00 -0500 (Thu, 20 Feb 2025) EllapsedTime: 27.0 seconds RetCode: 0 Status: OK