Package: OncoScore Version: 1.35.0 Command: E:\biocbuild\bbs-3.21-bioc\R\bin\R.exe CMD check --no-multiarch --install=check:OncoScore.install-out.txt --library=E:\biocbuild\bbs-3.21-bioc\R\library --no-vignettes --timings OncoScore_1.35.0.tar.gz StartedAt: 2025-02-21 04:04:08 -0500 (Fri, 21 Feb 2025) EndedAt: 2025-02-21 04:06:10 -0500 (Fri, 21 Feb 2025) EllapsedTime: 121.8 seconds RetCode: 0 Status: OK CheckDir: OncoScore.Rcheck Warnings: 0