Package: OncoScore Version: 1.35.0 Command: /Library/Frameworks/R.framework/Resources/bin/R CMD check --install=check:OncoScore.install-out.txt --library=/Library/Frameworks/R.framework/Resources/library --no-vignettes --timings OncoScore_1.35.0.tar.gz StartedAt: 2025-02-20 20:33:38 -0500 (Thu, 20 Feb 2025) EndedAt: 2025-02-20 20:34:19 -0500 (Thu, 20 Feb 2025) EllapsedTime: 41.4 seconds RetCode: 0 Status: OK CheckDir: OncoScore.Rcheck Warnings: 0