Package: OmnipathR Version: 3.15.9 Command: chmod a+r OmnipathR -R && E:\biocbuild\bbs-3.21-bioc\R\bin\R.exe CMD build --keep-empty-dirs --no-resave-data OmnipathR StartedAt: 2025-02-19 20:26:22 -0500 (Wed, 19 Feb 2025) EndedAt: 2025-02-19 20:42:08 -0500 (Wed, 19 Feb 2025) EllapsedTime: 946.0 seconds RetCode: 0 Status: OK PackageFile: OmnipathR_3.15.9.tar.gz PackageFileSize: 3.197 MiB