Package: OmnipathR Version: 3.15.9 Command: rm -rf OmnipathR.buildbin-libdir && mkdir OmnipathR.buildbin-libdir && E:\biocbuild\bbs-3.21-bioc\R\bin\R.exe CMD INSTALL --build --library=OmnipathR.buildbin-libdir OmnipathR_3.15.9.tar.gz StartedAt: 2025-02-20 08:21:21 -0500 (Thu, 20 Feb 2025) EndedAt: 2025-02-20 08:25:28 -0500 (Thu, 20 Feb 2025) EllapsedTime: 246.5 seconds RetCode: 0 Status: OK PackageFile: OmnipathR_3.15.9.zip PackageFileSize: 3.266 MiB