Package: OmnipathR Version: 3.15.9 Command: /home/biocbuild/bbs-3.21-bioc/R/bin/R CMD check --install=check:OmnipathR.install-out.txt --library=/home/biocbuild/bbs-3.21-bioc/R/site-library --timings OmnipathR_3.15.9.tar.gz StartedAt: 2025-02-20 00:49:23 -0500 (Thu, 20 Feb 2025) EndedAt: 2025-02-20 01:14:17 -0500 (Thu, 20 Feb 2025) EllapsedTime: 1494.7 seconds RetCode: 1 Status: ERROR CheckDir: OmnipathR.Rcheck Warnings: NA