Package: OmnipathR Version: 3.15.9 Command: /Library/Frameworks/R.framework/Resources/bin/R CMD check --install=check:OmnipathR.install-out.txt --library=/Library/Frameworks/R.framework/Resources/library --no-vignettes --timings OmnipathR_3.15.9.tar.gz StartedAt: 2025-02-19 22:08:02 -0500 (Wed, 19 Feb 2025) EndedAt: 2025-02-19 22:19:49 -0500 (Wed, 19 Feb 2025) EllapsedTime: 706.6 seconds RetCode: 1 Status: ERROR CheckDir: OmnipathR.Rcheck Warnings: NA