Package: OmnipathR Version: 3.15.9 Command: /Library/Frameworks/R.framework/Resources/bin/R CMD check --install=check:OmnipathR.install-out.txt --library=/Library/Frameworks/R.framework/Resources/library --no-vignettes --timings OmnipathR_3.15.9.tar.gz StartedAt: 2025-02-19 20:36:17 -0500 (Wed, 19 Feb 2025) EndedAt: 2025-02-19 20:42:05 -0500 (Wed, 19 Feb 2025) EllapsedTime: 348.1 seconds RetCode: 1 Status: ERROR CheckDir: OmnipathR.Rcheck Warnings: NA