Package: OmnipathR Version: 3.15.9 Maintainer: Denes Turei MaintainerEmail: turei.denes at gmail.com git_url: https://git.bioconductor.org/packages/OmnipathR git_branch: devel git_last_commit: 16b42b2 git_last_commit_date: 2025-02-13 11:03:41 -0500 (Thu, 13 Feb 2025)