Package: Omixer Version: 1.17.0 Command: /home/biocbuild/bbs-3.21-bioc/R/bin/R CMD INSTALL Omixer StartedAt: 2025-02-20 15:15:29 -0500 (Thu, 20 Feb 2025) EndedAt: 2025-02-20 15:15:33 -0500 (Thu, 20 Feb 2025) EllapsedTime: 4.4 seconds RetCode: 0 Status: OK