Package: Omixer Version: 1.17.0 Command: /home/biocbuild/bbs-3.21-bioc/R/bin/R CMD check --install=check:Omixer.install-out.txt --library=/home/biocbuild/bbs-3.21-bioc/R/site-library --timings Omixer_1.17.0.tar.gz StartedAt: 2025-02-21 00:18:49 -0500 (Fri, 21 Feb 2025) EndedAt: 2025-02-21 00:20:42 -0500 (Fri, 21 Feb 2025) EllapsedTime: 112.2 seconds RetCode: 0 Status: OK CheckDir: Omixer.Rcheck Warnings: 0