Package: Omixer Version: 1.17.0 Command: /Library/Frameworks/R.framework/Resources/bin/R CMD check --install=check:Omixer.install-out.txt --library=/Library/Frameworks/R.framework/Resources/library --no-vignettes --timings Omixer_1.17.0.tar.gz StartedAt: 2025-02-20 20:33:15 -0500 (Thu, 20 Feb 2025) EndedAt: 2025-02-20 20:33:33 -0500 (Thu, 20 Feb 2025) EllapsedTime: 17.2 seconds RetCode: 0 Status: OK CheckDir: Omixer.Rcheck Warnings: 0