Package: Omixer Version: 1.17.0 Command: /Library/Frameworks/R.framework/Resources/bin/R CMD build --keep-empty-dirs --no-resave-data Omixer StartedAt: 2025-02-20 17:09:04 -0500 (Thu, 20 Feb 2025) EndedAt: 2025-02-20 17:09:32 -0500 (Thu, 20 Feb 2025) EllapsedTime: 27.3 seconds RetCode: 0 Status: OK PackageFile: Omixer_1.17.0.tar.gz PackageFileSize: 1.407 MiB