Package: OmicsMLRepoR Version: 1.1.2 Command: E:\biocbuild\bbs-3.21-bioc\R\bin\R.exe CMD INSTALL OmicsMLRepoR StartedAt: 2025-02-20 15:33:05 -0500 (Thu, 20 Feb 2025) EndedAt: 2025-02-20 15:33:26 -0500 (Thu, 20 Feb 2025) EllapsedTime: 20.7 seconds RetCode: 0 Status: OK