Package: OmicsMLRepoR Version: 1.1.2 Command: rm -rf OmicsMLRepoR.buildbin-libdir && mkdir OmicsMLRepoR.buildbin-libdir && E:\biocbuild\bbs-3.21-bioc\R\bin\R.exe CMD INSTALL --build --library=OmicsMLRepoR.buildbin-libdir OmicsMLRepoR_1.1.2.tar.gz StartedAt: 2025-02-21 08:41:54 -0500 (Fri, 21 Feb 2025) EndedAt: 2025-02-21 08:42:35 -0500 (Fri, 21 Feb 2025) EllapsedTime: 40.7 seconds RetCode: 0 Status: OK PackageFile: OmicsMLRepoR_1.1.2.zip PackageFileSize: 315 KiB