Package: OmicsMLRepoR Version: 1.1.2 Command: /home/biocbuild/bbs-3.21-bioc/R/bin/R CMD INSTALL OmicsMLRepoR StartedAt: 2025-02-20 15:23:54 -0500 (Thu, 20 Feb 2025) EndedAt: 2025-02-20 15:24:02 -0500 (Thu, 20 Feb 2025) EllapsedTime: 8.5 seconds RetCode: 0 Status: OK