Package: OmicsMLRepoR Version: 1.1.2 Command: /home/biocbuild/bbs-3.21-bioc/R/bin/R CMD check --install=check:OmicsMLRepoR.install-out.txt --library=/home/biocbuild/bbs-3.21-bioc/R/site-library --timings OmicsMLRepoR_1.1.2.tar.gz StartedAt: 2025-02-21 00:18:32 -0500 (Fri, 21 Feb 2025) EndedAt: 2025-02-21 00:21:31 -0500 (Fri, 21 Feb 2025) EllapsedTime: 178.3 seconds RetCode: 0 Status: OK CheckDir: OmicsMLRepoR.Rcheck Warnings: 0