Package: OmicsMLRepoR Version: 1.1.2 Command: /home/biocbuild/bbs-3.21-bioc/R/bin/R CMD build --keep-empty-dirs --no-resave-data OmicsMLRepoR StartedAt: 2025-02-20 18:32:03 -0500 (Thu, 20 Feb 2025) EndedAt: 2025-02-20 18:33:37 -0500 (Thu, 20 Feb 2025) EllapsedTime: 94.1 seconds RetCode: 0 Status: OK PackageFile: OmicsMLRepoR_1.1.2.tar.gz PackageFileSize: 427.8 KiB