Package: OmicsMLRepoR Version: 1.1.2 Command: rm -rf OmicsMLRepoR.buildbin-libdir && mkdir OmicsMLRepoR.buildbin-libdir && /Users/biocbuild/BBS/utils/build-universal.sh OmicsMLRepoR_1.1.2.tar.gz /Library/Frameworks/R.framework/Resources/bin/R OmicsMLRepoR.buildbin-libdir StartedAt: 2025-02-21 00:43:48 -0500 (Fri, 21 Feb 2025) EndedAt: 2025-02-21 00:44:01 -0500 (Fri, 21 Feb 2025) EllapsedTime: 12.7 seconds RetCode: 0 Status: OK PackageFile: OmicsMLRepoR_1.1.2.tgz PackageFileSize: 309 KiB