Package: OmicsMLRepoR Version: 1.1.2 Command: /Library/Frameworks/R.framework/Resources/bin/R CMD INSTALL OmicsMLRepoR StartedAt: 2025-02-20 15:14:51 -0500 (Thu, 20 Feb 2025) EndedAt: 2025-02-20 15:14:54 -0500 (Thu, 20 Feb 2025) EllapsedTime: 3.2 seconds RetCode: 0 Status: OK