Package: OmicsMLRepoR Version: 1.1.2 Command: /Library/Frameworks/R.framework/Resources/bin/R CMD check --install=check:OmicsMLRepoR.install-out.txt --library=/Library/Frameworks/R.framework/Resources/library --no-vignettes --timings OmicsMLRepoR_1.1.2.tar.gz StartedAt: 2025-02-20 20:32:42 -0500 (Thu, 20 Feb 2025) EndedAt: 2025-02-20 20:33:29 -0500 (Thu, 20 Feb 2025) EllapsedTime: 46.6 seconds RetCode: 0 Status: OK CheckDir: OmicsMLRepoR.Rcheck Warnings: 0