Package: OmicsMLRepoR Version: 1.1.2 Command: /Library/Frameworks/R.framework/Resources/bin/R CMD build --keep-empty-dirs --no-resave-data OmicsMLRepoR StartedAt: 2025-02-20 17:08:56 -0500 (Thu, 20 Feb 2025) EndedAt: 2025-02-20 17:09:41 -0500 (Thu, 20 Feb 2025) EllapsedTime: 44.5 seconds RetCode: 0 Status: OK PackageFile: OmicsMLRepoR_1.1.2.tar.gz PackageFileSize: 427.8 KiB