Package: OmicsMLRepoR Version: 1.1.2 Command: rm -rf OmicsMLRepoR.buildbin-libdir && mkdir OmicsMLRepoR.buildbin-libdir && /Users/biocbuild/BBS/utils/build-universal.sh OmicsMLRepoR_1.1.2.tar.gz /Library/Frameworks/R.framework/Resources/bin/R OmicsMLRepoR.buildbin-libdir StartedAt: 2025-02-20 22:28:40 -0500 (Thu, 20 Feb 2025) EndedAt: 2025-02-20 22:28:44 -0500 (Thu, 20 Feb 2025) EllapsedTime: 4.1 seconds RetCode: 0 Status: OK PackageFile: OmicsMLRepoR_1.1.2.tgz PackageFileSize: 310 KiB