Package: OmicsMLRepoR Version: 1.1.2 Maintainer: Sehyun Oh MaintainerEmail: shbrief at gmail.com git_url: https://git.bioconductor.org/packages/OmicsMLRepoR git_branch: devel git_last_commit: 8909fd6 git_last_commit_date: 2025-02-04 12:23:51 -0500 (Tue, 04 Feb 2025)