Package: OmicCircos Version: 1.45.0 Command: E:\biocbuild\bbs-3.21-bioc\R\bin\R.exe CMD check --no-multiarch --install=check:OmicCircos.install-out.txt --library=E:\biocbuild\bbs-3.21-bioc\R\library --no-vignettes --timings OmicCircos_1.45.0.tar.gz StartedAt: 2025-02-20 03:45:20 -0500 (Thu, 20 Feb 2025) EndedAt: 2025-02-20 03:47:00 -0500 (Thu, 20 Feb 2025) EllapsedTime: 100.4 seconds RetCode: 0 Status: WARNINGS CheckDir: OmicCircos.Rcheck Warnings: 1