Package: OmicCircos Version: 1.45.0 Command: rm -rf OmicCircos.buildbin-libdir && mkdir OmicCircos.buildbin-libdir && E:\biocbuild\bbs-3.21-bioc\R\bin\R.exe CMD INSTALL --build --library=OmicCircos.buildbin-libdir OmicCircos_1.45.0.tar.gz StartedAt: 2025-02-19 08:00:34 -0500 (Wed, 19 Feb 2025) EndedAt: 2025-02-19 08:00:56 -0500 (Wed, 19 Feb 2025) EllapsedTime: 21.9 seconds RetCode: 0 Status: OK PackageFile: OmicCircos_1.45.0.zip PackageFileSize: 3.734 MiB