Package: OmicCircos Version: 1.45.0 Command: /home/biocbuild/bbs-3.21-bioc/R/bin/R CMD INSTALL OmicCircos StartedAt: 2025-02-19 15:16:24 -0500 (Wed, 19 Feb 2025) EndedAt: 2025-02-19 15:16:36 -0500 (Wed, 19 Feb 2025) EllapsedTime: 11.6 seconds RetCode: 0 Status: OK