Package: OmicCircos Version: 1.45.0 Command: /home/biocbuild/bbs-3.21-bioc/R/bin/R CMD check --install=check:OmicCircos.install-out.txt --library=/home/biocbuild/bbs-3.21-bioc/R/site-library --timings OmicCircos_1.45.0.tar.gz StartedAt: 2025-02-20 00:47:33 -0500 (Thu, 20 Feb 2025) EndedAt: 2025-02-20 00:49:01 -0500 (Thu, 20 Feb 2025) EllapsedTime: 88.1 seconds RetCode: 0 Status: WARNINGS CheckDir: OmicCircos.Rcheck Warnings: 1