Package: OmicCircos Version: 1.45.0 Command: /Library/Frameworks/R.framework/Resources/bin/R CMD check --install=check:OmicCircos.install-out.txt --library=/Library/Frameworks/R.framework/Resources/library --no-vignettes --timings OmicCircos_1.45.0.tar.gz StartedAt: 2025-02-19 22:06:14 -0500 (Wed, 19 Feb 2025) EndedAt: 2025-02-19 22:07:47 -0500 (Wed, 19 Feb 2025) EllapsedTime: 93.7 seconds RetCode: 0 Status: WARNINGS CheckDir: OmicCircos.Rcheck Warnings: 1