Package: OmicCircos Version: 1.45.0 Command: /Library/Frameworks/R.framework/Resources/bin/R CMD build --keep-empty-dirs --no-resave-data OmicCircos StartedAt: 2025-02-19 17:09:59 -0500 (Wed, 19 Feb 2025) EndedAt: 2025-02-19 17:10:11 -0500 (Wed, 19 Feb 2025) EllapsedTime: 12.1 seconds RetCode: 0 Status: OK PackageFile: OmicCircos_1.45.0.tar.gz PackageFileSize: 4.956 MiB