Package: OmaDB Version: 2.23.0 Command: E:\biocbuild\bbs-3.21-bioc\R\bin\R.exe CMD check --no-multiarch --install=check:OmaDB.install-out.txt --library=E:\biocbuild\bbs-3.21-bioc\R\library --no-vignettes --timings OmaDB_2.23.0.tar.gz StartedAt: 2025-02-21 04:00:45 -0500 (Fri, 21 Feb 2025) EndedAt: 2025-02-21 04:09:00 -0500 (Fri, 21 Feb 2025) EllapsedTime: 494.5 seconds RetCode: 0 Status: OK CheckDir: OmaDB.Rcheck Warnings: 0