Package: OmaDB Version: 2.23.0 Command: rm -rf OmaDB.buildbin-libdir && mkdir OmaDB.buildbin-libdir && E:\biocbuild\bbs-3.21-bioc\R\bin\R.exe CMD INSTALL --build --library=OmaDB.buildbin-libdir OmaDB_2.23.0.tar.gz StartedAt: 2025-02-21 08:41:43 -0500 (Fri, 21 Feb 2025) EndedAt: 2025-02-21 08:42:14 -0500 (Fri, 21 Feb 2025) EllapsedTime: 31.2 seconds RetCode: 0 Status: OK PackageFile: OmaDB_2.23.0.zip PackageFileSize: 196.2 KiB