Package: OmaDB Version: 2.23.0 Command: /home/biocbuild/bbs-3.21-bioc/R/bin/R CMD build --keep-empty-dirs --no-resave-data OmaDB StartedAt: 2025-02-20 18:31:46 -0500 (Thu, 20 Feb 2025) EndedAt: 2025-02-20 18:32:08 -0500 (Thu, 20 Feb 2025) EllapsedTime: 22.0 seconds RetCode: 0 Status: OK PackageFile: OmaDB_2.23.0.tar.gz PackageFileSize: 98.15 KiB