Package: OmaDB Version: 2.23.0 Command: /Library/Frameworks/R.framework/Resources/bin/R CMD build --keep-empty-dirs --no-resave-data OmaDB StartedAt: 2025-02-20 17:38:44 -0500 (Thu, 20 Feb 2025) EndedAt: 2025-02-20 17:39:17 -0500 (Thu, 20 Feb 2025) EllapsedTime: 32.9 seconds RetCode: 0 Status: OK PackageFile: OmaDB_2.23.0.tar.gz PackageFileSize: 98.14 KiB