Package: OmaDB Version: 2.23.0 Command: /Library/Frameworks/R.framework/Resources/bin/R CMD INSTALL OmaDB StartedAt: 2025-02-21 15:26:39 -0500 (Fri, 21 Feb 2025) EndedAt: 2025-02-21 15:26:46 -0500 (Fri, 21 Feb 2025) EllapsedTime: 7.2 seconds RetCode: 0 Status: OK