Package: OmaDB Version: 2.23.0 Command: /Library/Frameworks/R.framework/Resources/bin/R CMD build --keep-empty-dirs --no-resave-data OmaDB StartedAt: 2025-02-21 17:08:16 -0500 (Fri, 21 Feb 2025) EndedAt: 2025-02-21 17:08:26 -0500 (Fri, 21 Feb 2025) EllapsedTime: 10.1 seconds RetCode: 0 Status: OK PackageFile: OmaDB_2.23.0.tar.gz PackageFileSize: 98.17 KiB