Package: OmaDB Version: 2.23.0 Command: rm -rf OmaDB.buildbin-libdir && mkdir OmaDB.buildbin-libdir && /Users/biocbuild/BBS/utils/build-universal.sh OmaDB_2.23.0.tar.gz /Library/Frameworks/R.framework/Resources/bin/R OmaDB.buildbin-libdir StartedAt: 2025-02-21 23:05:59 -0500 (Fri, 21 Feb 2025) EndedAt: 2025-02-21 23:06:07 -0500 (Fri, 21 Feb 2025) EllapsedTime: 8.2 seconds RetCode: 0 Status: OK PackageFile: OmaDB_2.23.0.tgz PackageFileSize: 180.1 KiB