Package: OVESEG Version: 1.23.0 Command: E:\biocbuild\bbs-3.21-bioc\R\bin\R.exe CMD INSTALL OVESEG StartedAt: 2025-02-20 16:02:39 -0500 (Thu, 20 Feb 2025) EndedAt: 2025-02-20 16:03:02 -0500 (Thu, 20 Feb 2025) EllapsedTime: 23.1 seconds RetCode: 0 Status: OK