Package: OVESEG Version: 1.23.0 Command: chmod a+r OVESEG -R && E:\biocbuild\bbs-3.21-bioc\R\bin\R.exe CMD build --keep-empty-dirs --no-resave-data OVESEG StartedAt: 2025-02-20 20:36:18 -0500 (Thu, 20 Feb 2025) EndedAt: 2025-02-20 20:42:05 -0500 (Thu, 20 Feb 2025) EllapsedTime: 346.7 seconds RetCode: 0 Status: OK PackageFile: OVESEG_1.23.0.tar.gz PackageFileSize: 766 KiB