Package: OVESEG Version: 1.23.0 Command: /Library/Frameworks/R.framework/Resources/bin/R CMD INSTALL OVESEG StartedAt: 2025-02-20 15:13:11 -0500 (Thu, 20 Feb 2025) EndedAt: 2025-02-20 15:13:32 -0500 (Thu, 20 Feb 2025) EllapsedTime: 21.0 seconds RetCode: 0 Status: OK