Package: OVESEG Version: 1.23.0 Command: /Library/Frameworks/R.framework/Resources/bin/R CMD check --install=check:OVESEG.install-out.txt --library=/Library/Frameworks/R.framework/Resources/library --no-vignettes --timings OVESEG_1.23.0.tar.gz StartedAt: 2025-02-20 22:10:59 -0500 (Thu, 20 Feb 2025) EndedAt: 2025-02-20 22:12:52 -0500 (Thu, 20 Feb 2025) EllapsedTime: 112.9 seconds RetCode: 0 Status: OK CheckDir: OVESEG.Rcheck Warnings: 0