Package: OVESEG Version: 1.23.0 Command: rm -rf OVESEG.buildbin-libdir && mkdir OVESEG.buildbin-libdir && /Users/biocbuild/BBS/utils/build-universal.sh OVESEG_1.23.0.tar.gz /Library/Frameworks/R.framework/Resources/bin/R OVESEG.buildbin-libdir StartedAt: 2025-02-20 22:29:04 -0500 (Thu, 20 Feb 2025) EndedAt: 2025-02-20 22:29:11 -0500 (Thu, 20 Feb 2025) EllapsedTime: 7.1 seconds RetCode: 0 Status: OK PackageFile: OVESEG_1.23.0.tgz PackageFileSize: 875.2 KiB