Package: OUTRIDER Version: 1.25.0 Command: E:\biocbuild\bbs-3.21-bioc\R\bin\R.exe CMD INSTALL OUTRIDER StartedAt: 2025-02-19 16:46:38 -0500 (Wed, 19 Feb 2025) EndedAt: 2025-02-19 16:48:08 -0500 (Wed, 19 Feb 2025) EllapsedTime: 90.6 seconds RetCode: 0 Status: OK